BEGIN:VCALENDAR
VERSION:2.0
PRODID:-//CEIP Villa de Guadarrama - ECPv6.15.20//NONSGML v1.0//EN
CALSCALE:GREGORIAN
METHOD:PUBLISH
X-WR-CALNAME:CEIP Villa de Guadarrama
X-ORIGINAL-URL:https://villadeguadarrama.com
X-WR-CALDESC:Eventos para CEIP Villa de Guadarrama
REFRESH-INTERVAL;VALUE=DURATION:PT1H
X-Robots-Tag:noindex
X-PUBLISHED-TTL:PT1H
BEGIN:VTIMEZONE
TZID:Europe/Madrid
BEGIN:DAYLIGHT
TZOFFSETFROM:+0100
TZOFFSETTO:+0200
TZNAME:CEST
DTSTART:20240331T010000
END:DAYLIGHT
BEGIN:STANDARD
TZOFFSETFROM:+0200
TZOFFSETTO:+0100
TZNAME:CET
DTSTART:20241027T010000
END:STANDARD
BEGIN:DAYLIGHT
TZOFFSETFROM:+0100
TZOFFSETTO:+0200
TZNAME:CEST
DTSTART:20250330T010000
END:DAYLIGHT
BEGIN:STANDARD
TZOFFSETFROM:+0200
TZOFFSETTO:+0100
TZNAME:CET
DTSTART:20251026T010000
END:STANDARD
BEGIN:DAYLIGHT
TZOFFSETFROM:+0100
TZOFFSETTO:+0200
TZNAME:CEST
DTSTART:20260329T010000
END:DAYLIGHT
BEGIN:STANDARD
TZOFFSETFROM:+0200
TZOFFSETTO:+0100
TZNAME:CET
DTSTART:20261025T010000
END:STANDARD
END:VTIMEZONE
BEGIN:VEVENT
DTSTART;TZID=Europe/Madrid:20250625T093000
DTEND;TZID=Europe/Madrid:20250625T110000
DTSTAMP:20260422T134509
CREATED:20250609T123611Z
LAST-MODIFIED:20250609T123611Z
UID:8072-1750843800-1750849200@villadeguadarrama.com
SUMMARY:REUNIÓN FAMILIAS DE ALUMNADO NUEVAS ESCOLARIZACIONES CURSO 2025/2026 INFANTIL
DESCRIPTION:Para familias de alumnado de nueva escolarización de Educación Infantil curso 2025/2026 (Infantil 3\, 4 y 5 años)
URL:https://villadeguadarrama.com/event/reunion-familias-de-alumnado-nuevas-escolarizaciones-curso-2025-2026-infantil/
END:VEVENT
END:VCALENDAR