BEGIN:VCALENDAR
VERSION:2.0
PRODID:-//CEIP Villa de Guadarrama - ECPv6.15.20//NONSGML v1.0//EN
CALSCALE:GREGORIAN
METHOD:PUBLISH
X-WR-CALNAME:CEIP Villa de Guadarrama
X-ORIGINAL-URL:https://villadeguadarrama.com
X-WR-CALDESC:Eventos para CEIP Villa de Guadarrama
REFRESH-INTERVAL;VALUE=DURATION:PT1H
X-Robots-Tag:noindex
X-PUBLISHED-TTL:PT1H
BEGIN:VTIMEZONE
TZID:Europe/Madrid
BEGIN:DAYLIGHT
TZOFFSETFROM:+0100
TZOFFSETTO:+0200
TZNAME:CEST
DTSTART:20200329T010000
END:DAYLIGHT
BEGIN:STANDARD
TZOFFSETFROM:+0200
TZOFFSETTO:+0100
TZNAME:CET
DTSTART:20201025T010000
END:STANDARD
BEGIN:DAYLIGHT
TZOFFSETFROM:+0100
TZOFFSETTO:+0200
TZNAME:CEST
DTSTART:20210328T010000
END:DAYLIGHT
BEGIN:STANDARD
TZOFFSETFROM:+0200
TZOFFSETTO:+0100
TZNAME:CET
DTSTART:20211031T010000
END:STANDARD
BEGIN:DAYLIGHT
TZOFFSETFROM:+0100
TZOFFSETTO:+0200
TZNAME:CEST
DTSTART:20220327T010000
END:DAYLIGHT
BEGIN:STANDARD
TZOFFSETFROM:+0200
TZOFFSETTO:+0100
TZNAME:CET
DTSTART:20221030T010000
END:STANDARD
BEGIN:DAYLIGHT
TZOFFSETFROM:+0100
TZOFFSETTO:+0200
TZNAME:CEST
DTSTART:20230326T010000
END:DAYLIGHT
BEGIN:STANDARD
TZOFFSETFROM:+0200
TZOFFSETTO:+0100
TZNAME:CET
DTSTART:20231029T010000
END:STANDARD
END:VTIMEZONE
BEGIN:VEVENT
DTSTART;VALUE=DATE:20210903
DTEND;VALUE=DATE:20210904
DTSTAMP:20260423T000359
CREATED:20210714T113310Z
LAST-MODIFIED:20210714T113510Z
UID:6056-1630627200-1630713599@villadeguadarrama.com
SUMMARY:REUNION FAMILIAS ACOGIDA ALUMNADO NUEVA INCORPORACION 12H
DESCRIPTION:
URL:https://villadeguadarrama.com/event/festivo-local-2/
END:VEVENT
BEGIN:VEVENT
DTSTART;TZID=Europe/Madrid:20210903T080000
DTEND;TZID=Europe/Madrid:20210903T170000
DTSTAMP:20260423T000359
CREATED:20210713T123822Z
LAST-MODIFIED:20210713T123822Z
UID:6047-1630656000-1630688400@villadeguadarrama.com
SUMMARY:REUNION FAMILIAS INFANTIL 3 AÑOS POLIDEPORTIVO 13H
DESCRIPTION:
URL:https://villadeguadarrama.com/event/reunion-familias-infantil-3-anos-polideportivo-13h/
END:VEVENT
BEGIN:VEVENT
DTSTART;VALUE=DATE:20210906
DTEND;VALUE=DATE:20210907
DTSTAMP:20260423T000359
CREATED:20210714T113629Z
LAST-MODIFIED:20210714T113629Z
UID:6060-1630886400-1630972799@villadeguadarrama.com
SUMMARY:PUBLICACION LISTADOS DE GRUPOS 10H
DESCRIPTION:
URL:https://villadeguadarrama.com/event/publicacion-listados-de-grupos-10h/
END:VEVENT
BEGIN:VEVENT
DTSTART;VALUE=DATE:20210907
DTEND;VALUE=DATE:20210908
DTSTAMP:20260423T000359
CREATED:20210713T123943Z
LAST-MODIFIED:20210714T112914Z
UID:6049-1630972800-1631059199@villadeguadarrama.com
SUMMARY:INICIO CURSO ESCOLAR LECTIVO 1ºABCD entra a las 10H Resto de cursos a las 9H
DESCRIPTION:
URL:https://villadeguadarrama.com/event/inicio-curso-escolar-lectivo/
END:VEVENT
BEGIN:VEVENT
DTSTART;VALUE=DATE:20210907
DTEND;VALUE=DATE:20210908
DTSTAMP:20260423T000359
CREATED:20210714T113155Z
LAST-MODIFIED:20210714T113155Z
UID:6052-1630972800-1631059199@villadeguadarrama.com
SUMMARY:INICIO DEL COMEDOR ESCOLAR
DESCRIPTION:
URL:https://villadeguadarrama.com/event/inicio-del-comedor-escolar/
END:VEVENT
BEGIN:VEVENT
DTSTART;VALUE=DATE:20210929
DTEND;VALUE=DATE:20210930
DTSTAMP:20260423T000359
CREATED:20210714T113230Z
LAST-MODIFIED:20210714T113230Z
UID:6054-1632873600-1632959999@villadeguadarrama.com
SUMMARY:FESTIVO  LOCAL
DESCRIPTION:
URL:https://villadeguadarrama.com/event/festivo-local/
END:VEVENT
BEGIN:VEVENT
DTSTART;VALUE=DATE:20211028
DTEND;VALUE=DATE:20211029
DTSTAMP:20260423T000359
CREATED:20211028T093059Z
LAST-MODIFIED:20211028T093059Z
UID:6146-1635379200-1635465599@villadeguadarrama.com
SUMMARY:HAPPY HALLOWEEN!
DESCRIPTION:
URL:https://villadeguadarrama.com/event/happy-halloween-2/
CATEGORIES:ACTIVIDAD EN EL CENTRO
END:VEVENT
BEGIN:VEVENT
DTSTART;VALUE=DATE:20211101
DTEND;VALUE=DATE:20211102
DTSTAMP:20260423T000359
CREATED:20211028T090714Z
LAST-MODIFIED:20211028T090714Z
UID:6125-1635724800-1635811199@villadeguadarrama.com
SUMMARY:FESTIVO
DESCRIPTION:
URL:https://villadeguadarrama.com/event/festivo-3/
CATEGORIES:Festivo
END:VEVENT
BEGIN:VEVENT
DTSTART;VALUE=DATE:20211105
DTEND;VALUE=DATE:20211106
DTSTAMP:20260423T000359
CREATED:20211028T091846Z
LAST-MODIFIED:20211028T091846Z
UID:6127-1636070400-1636156799@villadeguadarrama.com
SUMMARY:CHARLAS EDUCACIÓN AMBIENTAL 4ºABC
DESCRIPTION:
URL:https://villadeguadarrama.com/event/charlas-educacion-ambiental-4oabc/
CATEGORIES:ACTIVIDAD EN EL CENTRO,Charlas
END:VEVENT
BEGIN:VEVENT
DTSTART;VALUE=DATE:20211109
DTEND;VALUE=DATE:20211110
DTSTAMP:20260423T000359
CREATED:20211028T092031Z
LAST-MODIFIED:20211028T092031Z
UID:6131-1636416000-1636502399@villadeguadarrama.com
SUMMARY:TALLER DE MINERALES 4ºABC
DESCRIPTION:
URL:https://villadeguadarrama.com/event/taller-de-minerales-4oabc-3/
CATEGORIES:ACTIVIDAD EN EL CENTRO,Science
END:VEVENT
BEGIN:VEVENT
DTSTART;VALUE=DATE:20211112
DTEND;VALUE=DATE:20211113
DTSTAMP:20260423T000359
CREATED:20211028T092112Z
LAST-MODIFIED:20211028T092112Z
UID:6133-1636675200-1636761599@villadeguadarrama.com
SUMMARY:CHARLAS EDUCACIÓN AMBIENTAL 4ºABC
DESCRIPTION:
URL:https://villadeguadarrama.com/event/charlas-educacion-ambiental-4oabc-2/
CATEGORIES:ACTIVIDAD EN EL CENTRO,Charlas
END:VEVENT
BEGIN:VEVENT
DTSTART;VALUE=DATE:20211125
DTEND;VALUE=DATE:20211126
DTSTAMP:20260423T000359
CREATED:20211028T092650Z
LAST-MODIFIED:20211028T092650Z
UID:6142-1637798400-1637884799@villadeguadarrama.com
SUMMARY:VISITA MUSEO CCNN 5º PRIMARIA
DESCRIPTION:
URL:https://villadeguadarrama.com/event/visita-museo-ccnn-5o-primaria/
CATEGORIES:SALIDA COMPLEMENTARIA,Science
END:VEVENT
BEGIN:VEVENT
DTSTART;TZID=Europe/Madrid:20211126T133000
DTEND;TZID=Europe/Madrid:20211126T160000
DTSTAMP:20260423T000359
CREATED:20211028T092750Z
LAST-MODIFIED:20211028T092750Z
UID:6144-1637933400-1637942400@villadeguadarrama.com
SUMMARY:JORNADA GASTRONÓMICA "DIA DE COLOMBIA"
DESCRIPTION:
URL:https://villadeguadarrama.com/event/jornada-gastronomica-dia-de-colombia/
CATEGORIES:ACTIVIDAD DE COMEDOR
END:VEVENT
BEGIN:VEVENT
DTSTART;VALUE=DATE:20211130
DTEND;VALUE=DATE:20211201
DTSTAMP:20260423T000359
CREATED:20211130T120536Z
LAST-MODIFIED:20211130T120536Z
UID:6165-1638230400-1638316799@villadeguadarrama.com
SUMMARY:REFORESTACION CON ARBA EN PRIMARIA
DESCRIPTION:
URL:https://villadeguadarrama.com/event/reforestacion-con-arba-en-primaria/
CATEGORIES:SALIDA COMPLEMENTARIA
END:VEVENT
BEGIN:VEVENT
DTSTART;VALUE=DATE:20211201
DTEND;VALUE=DATE:20211202
DTSTAMP:20260423T000359
CREATED:20211130T120604Z
LAST-MODIFIED:20211130T120604Z
UID:6167-1638316800-1638403199@villadeguadarrama.com
SUMMARY:REFORESTACION CON ARBA EN INFANTIL
DESCRIPTION:
URL:https://villadeguadarrama.com/event/reforestacion-con-arba-en-infantil/
CATEGORIES:SALIDA COMPLEMENTARIA
END:VEVENT
BEGIN:VEVENT
DTSTART;VALUE=DATE:20211203
DTEND;VALUE=DATE:20211204
DTSTAMP:20260423T000359
CREATED:20211202T181159Z
LAST-MODIFIED:20211202T181159Z
UID:6182-1638489600-1638575999@villadeguadarrama.com
SUMMARY:DIA DE LA DISCAPACIDAD\, CUENTACUENTOS EN COLABORACION CON ADISGUA EN 2ºABC
DESCRIPTION:
URL:https://villadeguadarrama.com/event/dia-de-la-discapacidad-cuentacuentos-en-colaboracion-con-adisgua-en-2oabc/
CATEGORIES:ACTIVIDAD EN EL CENTRO
END:VEVENT
BEGIN:VEVENT
DTSTART;VALUE=DATE:20211206
DTEND;VALUE=DATE:20211207
DTSTAMP:20260423T000359
CREATED:20211202T182204Z
LAST-MODIFIED:20211202T182204Z
UID:6204-1638748800-1638835199@villadeguadarrama.com
SUMMARY:FESTIVO
DESCRIPTION:
URL:https://villadeguadarrama.com/event/festivo-4/
CATEGORIES:Festivo
END:VEVENT
BEGIN:VEVENT
DTSTART;VALUE=DATE:20211207
DTEND;VALUE=DATE:20211208
DTSTAMP:20260423T000359
CREATED:20211202T182223Z
LAST-MODIFIED:20211202T182223Z
UID:6206-1638835200-1638921599@villadeguadarrama.com
SUMMARY:NO LECTIVO
DESCRIPTION:
URL:https://villadeguadarrama.com/event/no-lectivo-4/
END:VEVENT
BEGIN:VEVENT
DTSTART;VALUE=DATE:20211208
DTEND;VALUE=DATE:20211209
DTSTAMP:20260423T000359
CREATED:20211202T182248Z
LAST-MODIFIED:20211202T182248Z
UID:6208-1638921600-1639007999@villadeguadarrama.com
SUMMARY:FESTIVO
DESCRIPTION:
URL:https://villadeguadarrama.com/event/festivo-5/
CATEGORIES:Festivo
END:VEVENT
BEGIN:VEVENT
DTSTART;VALUE=DATE:20211209
DTEND;VALUE=DATE:20211210
DTSTAMP:20260423T000359
CREATED:20211202T182132Z
LAST-MODIFIED:20211202T182132Z
UID:6202-1639008000-1639094399@villadeguadarrama.com
SUMMARY:5ºC VISITA MUSEO DE CCNN DE MADRID
DESCRIPTION:
URL:https://villadeguadarrama.com/event/5oc-visita-museo-de-ccnn-de-madrid/
CATEGORIES:Excursión
END:VEVENT
BEGIN:VEVENT
DTSTART;VALUE=DATE:20211214
DTEND;VALUE=DATE:20211215
DTSTAMP:20260423T000359
CREATED:20211202T181559Z
LAST-MODIFIED:20211202T181732Z
UID:6194-1639440000-1639526399@villadeguadarrama.com
SUMMARY:TALLER CON EL PARQUE NACIONAL DE LA SIERRA DE GUADARRAMA INFANTIL 3 Y 5 AÑOS
DESCRIPTION:
URL:https://villadeguadarrama.com/event/regreso-de-las-vacaciones-de-navidad/
CATEGORIES:ACTIVIDAD EN EL CENTRO
END:VEVENT
BEGIN:VEVENT
DTSTART;VALUE=DATE:20211215
DTEND;VALUE=DATE:20211216
DTSTAMP:20260423T000359
CREATED:20211202T181821Z
LAST-MODIFIED:20211202T181821Z
UID:6198-1639526400-1639612799@villadeguadarrama.com
SUMMARY:TALLER CON EL PARQUE NACIONAL DE LA SIERRA DE GUADARRAMA INFANTIL 4 AÑOS\, 1º Y 2º PRIM
DESCRIPTION:
URL:https://villadeguadarrama.com/event/taller-con-el-parque-nacional-de-la-sierra-de-guadarrama-infantil-4-anos-1o-y-2o-prim/
CATEGORIES:ACTIVIDAD EN EL CENTRO
END:VEVENT
BEGIN:VEVENT
DTSTART;VALUE=DATE:20211216
DTEND;VALUE=DATE:20211217
DTSTAMP:20260423T000359
CREATED:20211202T181317Z
LAST-MODIFIED:20211202T181317Z
UID:6186-1639612800-1639699199@villadeguadarrama.com
SUMMARY:CONCURSO DE TARJETAS NAVIDEÑAS VILLANAVILANDIA SOSTENIBLE
DESCRIPTION:
URL:https://villadeguadarrama.com/event/concurso-de-tarjetas-navidenas-villanavilandia-sostenible/
CATEGORIES:ACTIVIDAD EN EL CENTRO
END:VEVENT
BEGIN:VEVENT
DTSTART;VALUE=DATE:20211216
DTEND;VALUE=DATE:20211217
DTSTAMP:20260423T000359
CREATED:20211202T181914Z
LAST-MODIFIED:20211202T181914Z
UID:6200-1639612800-1639699199@villadeguadarrama.com
SUMMARY:TALLER CON EL PARQUE NACIONAL DE LA SIERRA DE GUADARRAMA 3º\, 4º\, 5º y 6º PRIMARIA
DESCRIPTION:
URL:https://villadeguadarrama.com/event/taller-con-el-parque-nacional-de-la-sierra-de-guadarrama-3o-4o-5o-y-6o-primaria/
CATEGORIES:ACTIVIDAD EN EL CENTRO
END:VEVENT
BEGIN:VEVENT
DTSTART;VALUE=DATE:20211217
DTEND;VALUE=DATE:20211218
DTSTAMP:20260423T000359
CREATED:20211202T181415Z
LAST-MODIFIED:20211202T181415Z
UID:6188-1639699200-1639785599@villadeguadarrama.com
SUMMARY:ENTRAGA DE PREMIOS CONCURSO DE TARJETAS NAVIDEÑAS Y DECORACIÓN DE PUERTAS
DESCRIPTION:
URL:https://villadeguadarrama.com/event/entraga-de-premios-concurso-de-tarjetas-navidenas-y-decoracion-de-puertas/
CATEGORIES:ACTIVIDAD EN EL CENTRO
END:VEVENT
BEGIN:VEVENT
DTSTART;VALUE=DATE:20211221
DTEND;VALUE=DATE:20211222
DTSTAMP:20260423T000359
CREATED:20211202T181232Z
LAST-MODIFIED:20211202T181232Z
UID:6184-1640044800-1640131199@villadeguadarrama.com
SUMMARY:TRADICIONAL CHOCOLATADA NAVIDEÑA
DESCRIPTION:
URL:https://villadeguadarrama.com/event/tradicional-chocolatada-navidena/
CATEGORIES:ACTIVIDAD EN EL CENTRO
END:VEVENT
BEGIN:VEVENT
DTSTART;VALUE=DATE:20211222
DTEND;VALUE=DATE:20211223
DTSTAMP:20260423T000359
CREATED:20211202T181451Z
LAST-MODIFIED:20211202T181451Z
UID:6190-1640131200-1640217599@villadeguadarrama.com
SUMMARY:VILLANAVILANDIA
DESCRIPTION:
URL:https://villadeguadarrama.com/event/villanavilandia/
CATEGORIES:ACTIVIDAD EN EL CENTRO
END:VEVENT
BEGIN:VEVENT
DTSTART;TZID=Europe/Madrid:20211223T080000
DTEND;TZID=Europe/Madrid:20211223T170000
DTSTAMP:20260423T000359
CREATED:20211202T181532Z
LAST-MODIFIED:20211202T181532Z
UID:6192-1640246400-1640278800@villadeguadarrama.com
SUMMARY:INICIO DE LAS VACACIONES DE NAVIDAD
DESCRIPTION:
URL:https://villadeguadarrama.com/event/inicio-de-las-vacaciones-de-navidad/
END:VEVENT
BEGIN:VEVENT
DTSTART;VALUE=DATE:20220203
DTEND;VALUE=DATE:20220204
DTSTAMP:20260423T000359
CREATED:20220204T112510Z
LAST-MODIFIED:20220204T112510Z
UID:6364-1643846400-1643932799@villadeguadarrama.com
SUMMARY:MUSEO CCNN 6ºA y 6ºC
DESCRIPTION:
URL:https://villadeguadarrama.com/event/museo-ccnn-6oa-y-6oc/
CATEGORIES:Excursión
END:VEVENT
BEGIN:VEVENT
DTSTART;VALUE=DATE:20220209
DTEND;VALUE=DATE:20220210
DTSTAMP:20260423T000359
CREATED:20220204T112650Z
LAST-MODIFIED:20220204T112650Z
UID:6368-1644364800-1644451199@villadeguadarrama.com
SUMMARY:CHARLAS POLICIA LOCAL SEGURIDAD EN INTERNET 5ºABC
DESCRIPTION:
URL:https://villadeguadarrama.com/event/charlas-policia-local-seguridad-en-internet-5oabc/
CATEGORIES:ACTIVIDAD EN EL CENTRO,Charlas
END:VEVENT
END:VCALENDAR