BEGIN:VCALENDAR
VERSION:2.0
PRODID:-//CEIP Villa de Guadarrama - ECPv6.15.20//NONSGML v1.0//EN
CALSCALE:GREGORIAN
METHOD:PUBLISH
X-ORIGINAL-URL:https://villadeguadarrama.com
X-WR-CALDESC:Eventos para CEIP Villa de Guadarrama
REFRESH-INTERVAL;VALUE=DURATION:PT1H
X-Robots-Tag:noindex
X-PUBLISHED-TTL:PT1H
BEGIN:VTIMEZONE
TZID:Europe/Madrid
BEGIN:DAYLIGHT
TZOFFSETFROM:+0100
TZOFFSETTO:+0200
TZNAME:CEST
DTSTART:20210328T010000
END:DAYLIGHT
BEGIN:STANDARD
TZOFFSETFROM:+0200
TZOFFSETTO:+0100
TZNAME:CET
DTSTART:20211031T010000
END:STANDARD
BEGIN:DAYLIGHT
TZOFFSETFROM:+0100
TZOFFSETTO:+0200
TZNAME:CEST
DTSTART:20220327T010000
END:DAYLIGHT
BEGIN:STANDARD
TZOFFSETFROM:+0200
TZOFFSETTO:+0100
TZNAME:CET
DTSTART:20221030T010000
END:STANDARD
BEGIN:DAYLIGHT
TZOFFSETFROM:+0100
TZOFFSETTO:+0200
TZNAME:CEST
DTSTART:20230326T010000
END:DAYLIGHT
BEGIN:STANDARD
TZOFFSETFROM:+0200
TZOFFSETTO:+0100
TZNAME:CET
DTSTART:20231029T010000
END:STANDARD
BEGIN:DAYLIGHT
TZOFFSETFROM:+0100
TZOFFSETTO:+0200
TZNAME:CEST
DTSTART:20240331T010000
END:DAYLIGHT
BEGIN:STANDARD
TZOFFSETFROM:+0200
TZOFFSETTO:+0100
TZNAME:CET
DTSTART:20241027T010000
END:STANDARD
END:VTIMEZONE
BEGIN:VEVENT
DTSTART;VALUE=DATE:20221109
DTEND;VALUE=DATE:20221110
DTSTAMP:20260424T134044
CREATED:20221109T141044Z
LAST-MODIFIED:20221109T141044Z
UID:6848-1667952000-1668038399@villadeguadarrama.com
SUMMARY:TALLER DE MINERALES Y ROCAS 4ºABC
DESCRIPTION:
URL:https://villadeguadarrama.com/event/taller-de-minerales-y-rocas-4oabc/
CATEGORIES:ACTIVIDAD EN EL CENTRO,Charlas
END:VEVENT
BEGIN:VEVENT
DTSTART;TZID=Europe/Madrid:20221111T080000
DTEND;TZID=Europe/Madrid:20221111T170000
DTSTAMP:20260424T134044
CREATED:20221109T141343Z
LAST-MODIFIED:20221109T141543Z
UID:6850-1668153600-1668186000@villadeguadarrama.com
SUMMARY:ESCALADA 3º ABC
DESCRIPTION:
URL:https://villadeguadarrama.com/event/escalada-3o-abc/
CATEGORIES:ACTIVIDAD DEPORTIVA
END:VEVENT
BEGIN:VEVENT
DTSTART;VALUE=DATE:20221114
DTEND;VALUE=DATE:20221115
DTSTAMP:20260424T134044
CREATED:20221109T141932Z
LAST-MODIFIED:20221109T141932Z
UID:6853-1668384000-1668470399@villadeguadarrama.com
SUMMARY:1ºAB CUENTA CUENTOS IGUALDAD
DESCRIPTION:
URL:https://villadeguadarrama.com/event/1oab-cuenta-cuentos-igualdad/
CATEGORIES:ACTIVIDAD EN EL CENTRO
END:VEVENT
BEGIN:VEVENT
DTSTART;VALUE=DATE:20221115
DTEND;VALUE=DATE:20221116
DTSTAMP:20260424T134044
CREATED:20221109T142044Z
LAST-MODIFIED:20221109T142044Z
UID:6856-1668470400-1668556799@villadeguadarrama.com
SUMMARY:TALLER 6ºABC LEY DE PROTECCION DE LA INFANCIA
DESCRIPTION:
URL:https://villadeguadarrama.com/event/taller-6oabc-ley-de-proteccion-de-la-infancia/
CATEGORIES:ACTIVIDAD EN EL CENTRO,Charlas
END:VEVENT
BEGIN:VEVENT
DTSTART;TZID=Europe/Madrid:20221117T080000
DTEND;TZID=Europe/Madrid:20221117T170000
DTSTAMP:20260424T134044
CREATED:20221109T142220Z
LAST-MODIFIED:20221109T142220Z
UID:6858-1668672000-1668704400@villadeguadarrama.com
SUMMARY:CROSS ADS COLLADO VILLALBA
DESCRIPTION:
URL:https://villadeguadarrama.com/event/cross-ads-collado-villalba/
CATEGORIES:ACTIVIDAD DEPORTIVA
END:VEVENT
BEGIN:VEVENT
DTSTART;VALUE=DATE:20221122
DTEND;VALUE=DATE:20221123
DTSTAMP:20260424T134044
CREATED:20221109T142317Z
LAST-MODIFIED:20221109T142317Z
UID:6860-1669075200-1669161599@villadeguadarrama.com
SUMMARY:TEATRO MARAVILLAS INFANTIL 5 AÑOS ABC
DESCRIPTION:
URL:https://villadeguadarrama.com/event/teatro-maravillas-infantil-5-anos-abc/
CATEGORIES:SALIDA COMPLEMENTARIA
END:VEVENT
BEGIN:VEVENT
DTSTART;TZID=Europe/Madrid:20221123T080000
DTEND;TZID=Europe/Madrid:20221123T170000
DTSTAMP:20260424T134044
CREATED:20221109T142611Z
LAST-MODIFIED:20221109T142611Z
UID:6864-1669190400-1669222800@villadeguadarrama.com
SUMMARY:ELECCIONES SECTOR FAMILIAS AL CONSEJO ESCOLAR
DESCRIPTION:
URL:https://villadeguadarrama.com/event/elecciones-sector-familias-al-consejo-escolar/
END:VEVENT
BEGIN:VEVENT
DTSTART;VALUE=DATE:20221124
DTEND;VALUE=DATE:20221125
DTSTAMP:20260424T134044
CREATED:20221109T142437Z
LAST-MODIFIED:20221109T142437Z
UID:6862-1669248000-1669334399@villadeguadarrama.com
SUMMARY:VISITA MUSEO CCNN 5ºBC
DESCRIPTION:
URL:https://villadeguadarrama.com/event/visita-museo-ccnn-5obc/
CATEGORIES:SALIDA COMPLEMENTARIA
END:VEVENT
BEGIN:VEVENT
DTSTART;VALUE=DATE:20221129
DTEND;VALUE=DATE:20221130
DTSTAMP:20260424T134044
CREATED:20221109T142659Z
LAST-MODIFIED:20221109T142659Z
UID:6866-1669680000-1669766399@villadeguadarrama.com
SUMMARY:VISITA A CAIXAFORUM 6ºA
DESCRIPTION:
URL:https://villadeguadarrama.com/event/visita-a-caixaforum-6oa/
CATEGORIES:SALIDA COMPLEMENTARIA
END:VEVENT
BEGIN:VEVENT
DTSTART;VALUE=DATE:20221130
DTEND;VALUE=DATE:20221201
DTSTAMP:20260424T134044
CREATED:20221109T142728Z
LAST-MODIFIED:20221109T142728Z
UID:6868-1669766400-1669852799@villadeguadarrama.com
SUMMARY:VISITA A CAIXAFORUM 6ºB
DESCRIPTION:
URL:https://villadeguadarrama.com/event/visita-a-caixaforum-6ob/
CATEGORIES:SALIDA COMPLEMENTARIA
END:VEVENT
BEGIN:VEVENT
DTSTART;VALUE=DATE:20221201
DTEND;VALUE=DATE:20221202
DTSTAMP:20260424T134044
CREATED:20221109T142810Z
LAST-MODIFIED:20221109T142810Z
UID:6870-1669852800-1669939199@villadeguadarrama.com
SUMMARY:VISITA A MUSEO CCNN 5ºA
DESCRIPTION:
URL:https://villadeguadarrama.com/event/visita-a-museo-ccnn-5oa/
CATEGORIES:SALIDA COMPLEMENTARIA
END:VEVENT
BEGIN:VEVENT
DTSTART;VALUE=DATE:20221202
DTEND;VALUE=DATE:20221203
DTSTAMP:20260424T134044
CREATED:20221109T142905Z
LAST-MODIFIED:20221109T142905Z
UID:6872-1669939200-1670025599@villadeguadarrama.com
SUMMARY:VISITA A CAIXAFORUM 6ºC
DESCRIPTION:
URL:https://villadeguadarrama.com/event/visita-a-caixaforum-6oc/
CATEGORIES:SALIDA COMPLEMENTARIA
END:VEVENT
BEGIN:VEVENT
DTSTART;VALUE=DATE:20221205
DTEND;VALUE=DATE:20221206
DTSTAMP:20260424T134044
CREATED:20221109T142928Z
LAST-MODIFIED:20221109T142928Z
UID:6874-1670198400-1670284799@villadeguadarrama.com
SUMMARY:NO LECTIVO
DESCRIPTION:
URL:https://villadeguadarrama.com/event/no-lectivo-5/
CATEGORIES:Festivo
END:VEVENT
BEGIN:VEVENT
DTSTART;VALUE=DATE:20221207
DTEND;VALUE=DATE:20221208
DTSTAMP:20260424T134044
CREATED:20221109T142956Z
LAST-MODIFIED:20221109T143026Z
UID:6876-1670371200-1670457599@villadeguadarrama.com
SUMMARY:NO LECTIVO
DESCRIPTION:
URL:https://villadeguadarrama.com/event/festivo-6/
CATEGORIES:Festivo
END:VEVENT
BEGIN:VEVENT
DTSTART;VALUE=DATE:20221208
DTEND;VALUE=DATE:20221209
DTSTAMP:20260424T134044
CREATED:20221109T143214Z
LAST-MODIFIED:20221109T143214Z
UID:6880-1670457600-1670543999@villadeguadarrama.com
SUMMARY:FESTIVO
DESCRIPTION:
URL:https://villadeguadarrama.com/event/festivo-7/
CATEGORIES:Festivo
END:VEVENT
BEGIN:VEVENT
DTSTART;VALUE=DATE:20221219
DTEND;VALUE=DATE:20221220
DTSTAMP:20260424T134044
CREATED:20221219T130821Z
LAST-MODIFIED:20221219T130821Z
UID:6965-1671408000-1671494399@villadeguadarrama.com
SUMMARY:CUENTACUENTOS 1º. 2º
DESCRIPTION:
URL:https://villadeguadarrama.com/event/cuentacuentos-1o-2o/
END:VEVENT
BEGIN:VEVENT
DTSTART;VALUE=DATE:20221220
DTEND;VALUE=DATE:20221221
DTSTAMP:20260424T134044
CREATED:20221219T131141Z
LAST-MODIFIED:20221219T131141Z
UID:6973-1671494400-1671580799@villadeguadarrama.com
SUMMARY:TALLERES DE FAMILIAS INFANTIL 5 AÑOS
DESCRIPTION:
URL:https://villadeguadarrama.com/event/talleres-de-familias-infantil-5-anos/
CATEGORIES:ACTIVIDAD EN EL CENTRO
END:VEVENT
BEGIN:VEVENT
DTSTART;VALUE=DATE:20221221
DTEND;VALUE=DATE:20221222
DTSTAMP:20260424T134044
CREATED:20221219T131102Z
LAST-MODIFIED:20221219T131102Z
UID:6971-1671580800-1671667199@villadeguadarrama.com
SUMMARY:EVENTO NAVIDEÑO: CUENTOS\, LEYENDAS Y OTRAS HISTORIAS ESTA NAVIDAD
DESCRIPTION:
URL:https://villadeguadarrama.com/event/evento-navideno-cuentos-leyendas-y-otras-historias-esta-navidad/
END:VEVENT
BEGIN:VEVENT
DTSTART;VALUE=DATE:20221222
DTEND;VALUE=DATE:20221223
DTSTAMP:20260424T134044
CREATED:20221219T130906Z
LAST-MODIFIED:20221219T131015Z
UID:6967-1671667200-1671753599@villadeguadarrama.com
SUMMARY:VILLANOCHEVIEJA
DESCRIPTION:
URL:https://villadeguadarrama.com/event/talleres-de-familias-en-infantil-5-anos/
CATEGORIES:ACTIVIDAD EN EL CENTRO
END:VEVENT
BEGIN:VEVENT
DTSTART;VALUE=DATE:20221222
DTEND;VALUE=DATE:20221223
DTSTAMP:20260424T134044
CREATED:20221219T131216Z
LAST-MODIFIED:20221219T131216Z
UID:6975-1671667200-1671753599@villadeguadarrama.com
SUMMARY:HORARIO HASTA LAS 13H\, COMEDOR Y TRANSPORTE HASTA LAS 15H
DESCRIPTION:
URL:https://villadeguadarrama.com/event/horario-hasta-las-13h-comedor-y-transporte-hasta-las-15h/
END:VEVENT
BEGIN:VEVENT
DTSTART;VALUE=DATE:20230125
DTEND;VALUE=DATE:20230126
DTSTAMP:20260424T134044
CREATED:20230127T152909Z
LAST-MODIFIED:20230127T152909Z
UID:7033-1674604800-1674691199@villadeguadarrama.com
SUMMARY:Actividad Medioambiental colabora el Parque N. de la SIERRA DE GUADARRAMA
DESCRIPTION:
URL:https://villadeguadarrama.com/event/actividad-medioambiental-colabora-el-parque-n-de-la-sierra-de-guadarrama/
CATEGORIES:ACTIVIDAD EN EL CENTRO,Science
END:VEVENT
BEGIN:VEVENT
DTSTART;VALUE=DATE:20230130
DTEND;VALUE=DATE:20230131
DTSTAMP:20260424T134044
CREATED:20230127T143039Z
LAST-MODIFIED:20230127T143039Z
UID:7002-1675036800-1675123199@villadeguadarrama.com
SUMMARY:Jornada sobre Convivencia Escolar 4ºABC  colabora Policía Local de Guadarrama
DESCRIPTION:
URL:https://villadeguadarrama.com/event/jornada-sobre-convivencia-escolar-4oabc-colabora-policia-local-de-guadarrama/
CATEGORIES:ACTIVIDAD EN EL CENTRO,Charlas
END:VEVENT
BEGIN:VEVENT
DTSTART;VALUE=DATE:20230201
DTEND;VALUE=DATE:20230202
DTSTAMP:20260424T134044
CREATED:20230127T143213Z
LAST-MODIFIED:20230127T143213Z
UID:7004-1675209600-1675295999@villadeguadarrama.com
SUMMARY:Jornada sobre Convivencia Escolar 5ºABC colabora Policía Local de Guadarrama
DESCRIPTION:
URL:https://villadeguadarrama.com/event/jornada-sobre-convivencia-escolar-5oabc-colabora-policia-local-de-guadarrama/
END:VEVENT
BEGIN:VEVENT
DTSTART;VALUE=DATE:20230202
DTEND;VALUE=DATE:20230203
DTSTAMP:20260424T134044
CREATED:20230127T143334Z
LAST-MODIFIED:20230127T143334Z
UID:7006-1675296000-1675382399@villadeguadarrama.com
SUMMARY:Actividad de Escalada 5ºABC y 6ºABC en el rocódromo del PDM
DESCRIPTION:
URL:https://villadeguadarrama.com/event/actividad-de-escalada-5oabc-y-6oabc-en-el-rocodromo-del-pdm/
CATEGORIES:ACTIVIDAD DEPORTIVA
END:VEVENT
BEGIN:VEVENT
DTSTART;VALUE=DATE:20230203
DTEND;VALUE=DATE:20230204
DTSTAMP:20260424T134044
CREATED:20230127T143423Z
LAST-MODIFIED:20230127T143423Z
UID:7008-1675382400-1675468799@villadeguadarrama.com
SUMMARY:Reunión de Familias 5ºABC
DESCRIPTION:
URL:https://villadeguadarrama.com/event/reunion-de-familias-5oabc/
CATEGORIES:REUNIÓN FAMILIAS
END:VEVENT
BEGIN:VEVENT
DTSTART;VALUE=DATE:20230210
DTEND;VALUE=DATE:20230211
DTSTAMP:20260424T134044
CREATED:20230127T143515Z
LAST-MODIFIED:20230127T143515Z
UID:7010-1675987200-1676073599@villadeguadarrama.com
SUMMARY:REUNIÓN DE FAMILIAS 6ºABC
DESCRIPTION:
URL:https://villadeguadarrama.com/event/reunion-de-familias-6oabc-2/
CATEGORIES:REUNIÓN FAMILIAS
END:VEVENT
BEGIN:VEVENT
DTSTART;VALUE=DATE:20230210
DTEND;VALUE=DATE:20230211
DTSTAMP:20260424T134044
CREATED:20230202T141133Z
LAST-MODIFIED:20230202T141133Z
UID:7051-1675987200-1676073599@villadeguadarrama.com
SUMMARY:REUNION FAMILIAS INFANTIL 5 AÑOS EN BIBLIOTECA
DESCRIPTION:
URL:https://villadeguadarrama.com/event/reunion-familias-infantil-5-anos-en-biblioteca/
CATEGORIES:REUNIÓN FAMILIAS
END:VEVENT
BEGIN:VEVENT
DTSTART;VALUE=DATE:20230216
DTEND;VALUE=DATE:20230217
DTSTAMP:20260424T134044
CREATED:20230127T143658Z
LAST-MODIFIED:20230127T143658Z
UID:7012-1676505600-1676591999@villadeguadarrama.com
SUMMARY:Actividad de Escalada 5ºABC y 6ºABC en el rocódromo del PDM
DESCRIPTION:
URL:https://villadeguadarrama.com/event/actividad-de-escalada-5oabc-y-6oabc-en-el-rocodromo-del-pdm-2/
CATEGORIES:ACTIVIDAD DEPORTIVA
END:VEVENT
BEGIN:VEVENT
DTSTART;VALUE=DATE:20230217
DTEND;VALUE=DATE:20230218
DTSTAMP:20260424T134044
CREATED:20230127T143842Z
LAST-MODIFIED:20230127T143842Z
UID:7014-1676592000-1676678399@villadeguadarrama.com
SUMMARY:FINAL CROSS ADS _ alumnado seleccionado_ lugar del encuentro Valdemorillo
DESCRIPTION:
URL:https://villadeguadarrama.com/event/final-cross-ads-_-alumnado-seleccionado_-lugar-del-encuentro-valdemorillo/
CATEGORIES:ACTIVIDAD DEPORTIVA
END:VEVENT
BEGIN:VEVENT
DTSTART;VALUE=DATE:20230220
DTEND;VALUE=DATE:20230221
DTSTAMP:20260424T134044
CREATED:20230127T151710Z
LAST-MODIFIED:20230127T151739Z
UID:7016-1676851200-1676937599@villadeguadarrama.com
SUMMARY:Actividad CanalEduca_Agua  I4AB e I5ABC  colabora  F. Canal de Isabel II
DESCRIPTION:
URL:https://villadeguadarrama.com/event/actividad-canaleduca_agua-i4ab-e-i5abc-colabora-f-canal-de-isabel-ii/
CATEGORIES:ACTIVIDAD EN EL CENTRO
END:VEVENT
END:VCALENDAR