BEGIN:VCALENDAR
VERSION:2.0
PRODID:-//CEIP Villa de Guadarrama - ECPv6.15.20//NONSGML v1.0//EN
CALSCALE:GREGORIAN
METHOD:PUBLISH
X-WR-CALNAME:CEIP Villa de Guadarrama
X-ORIGINAL-URL:https://villadeguadarrama.com
X-WR-CALDESC:Eventos para CEIP Villa de Guadarrama
REFRESH-INTERVAL;VALUE=DURATION:PT1H
X-Robots-Tag:noindex
X-PUBLISHED-TTL:PT1H
BEGIN:VTIMEZONE
TZID:Europe/Madrid
BEGIN:DAYLIGHT
TZOFFSETFROM:+0100
TZOFFSETTO:+0200
TZNAME:CEST
DTSTART:20250330T010000
END:DAYLIGHT
BEGIN:STANDARD
TZOFFSETFROM:+0200
TZOFFSETTO:+0100
TZNAME:CET
DTSTART:20251026T010000
END:STANDARD
BEGIN:DAYLIGHT
TZOFFSETFROM:+0100
TZOFFSETTO:+0200
TZNAME:CEST
DTSTART:20260329T010000
END:DAYLIGHT
BEGIN:STANDARD
TZOFFSETFROM:+0200
TZOFFSETTO:+0100
TZNAME:CET
DTSTART:20261025T010000
END:STANDARD
BEGIN:DAYLIGHT
TZOFFSETFROM:+0100
TZOFFSETTO:+0200
TZNAME:CEST
DTSTART:20270328T010000
END:DAYLIGHT
BEGIN:STANDARD
TZOFFSETFROM:+0200
TZOFFSETTO:+0100
TZNAME:CET
DTSTART:20271031T010000
END:STANDARD
END:VTIMEZONE
BEGIN:VEVENT
DTSTART;TZID=Europe/Madrid:20260302T140000
DTEND;TZID=Europe/Madrid:20260302T150000
DTSTAMP:20260421T125821
CREATED:20260203T121336Z
LAST-MODIFIED:20260203T121336Z
UID:8258-1772460000-1772463600@villadeguadarrama.com
SUMMARY:JORNADA PUERTAS ABIERTAS ETAPA PRIMARIA
DESCRIPTION:
URL:https://villadeguadarrama.com/event/jornada-puertas-abiertas-etapa-primaria/
END:VEVENT
BEGIN:VEVENT
DTSTART;TZID=Europe/Madrid:20260304T140000
DTEND;TZID=Europe/Madrid:20260304T150000
DTSTAMP:20260421T125821
CREATED:20260206T084835Z
LAST-MODIFIED:20260206T084835Z
UID:8281-1772632800-1772636400@villadeguadarrama.com
SUMMARY:REUNIÓN DE FAMILIAS 3º EDUCACIÓN PRIMARIA
DESCRIPTION:
URL:https://villadeguadarrama.com/event/reunion-de-familias-3o-educacion-primaria/
END:VEVENT
BEGIN:VEVENT
DTSTART;VALUE=DATE:20260308
DTEND;VALUE=DATE:20260309
DTSTAMP:20260421T125821
CREATED:20260203T115415Z
LAST-MODIFIED:20260203T115415Z
UID:8226-1772928000-1773014399@villadeguadarrama.com
SUMMARY:CELEBRACIÓN DEL DÍA DE LA MUJER Y EDUCACIÓN EN IGUALDAD
DESCRIPTION:
URL:https://villadeguadarrama.com/event/celebracion-del-dia-de-la-mujer-y-educacion-en-igualdad/
END:VEVENT
BEGIN:VEVENT
DTSTART;TZID=Europe/Madrid:20260310T093000
DTEND;TZID=Europe/Madrid:20260311T160000
DTSTAMP:20260421T125821
CREATED:20260203T115735Z
LAST-MODIFIED:20260203T115735Z
UID:8232-1773135000-1773244800@villadeguadarrama.com
SUMMARY:GRANJA ESCUELA LA SALLE INFANTIL 5 AÑOS
DESCRIPTION:
URL:https://villadeguadarrama.com/event/granja-escuela-la-salle-infantil-5-anos/
END:VEVENT
BEGIN:VEVENT
DTSTART;TZID=Europe/Madrid:20260311T093000
DTEND;TZID=Europe/Madrid:20260311T140000
DTSTAMP:20260421T125821
CREATED:20260203T115820Z
LAST-MODIFIED:20260203T115820Z
UID:8234-1773221400-1773237600@villadeguadarrama.com
SUMMARY:FUENFRÍA 5º EDUCACIÓN PRIMARIA
DESCRIPTION:
URL:https://villadeguadarrama.com/event/fuenfria-5o-educacion-primaria/
END:VEVENT
BEGIN:VEVENT
DTSTART;TZID=Europe/Madrid:20260312T140000
DTEND;TZID=Europe/Madrid:20260312T150000
DTSTAMP:20260421T125821
CREATED:20260206T084920Z
LAST-MODIFIED:20260206T084920Z
UID:8283-1773324000-1773327600@villadeguadarrama.com
SUMMARY:REUNIÓN FAMILIAS 4º EDUCACIÓN PRIMARIA
DESCRIPTION:
URL:https://villadeguadarrama.com/event/reunion-familias-4o-educacion-primaria-2/
END:VEVENT
BEGIN:VEVENT
DTSTART;TZID=Europe/Madrid:20260319T093000
DTEND;TZID=Europe/Madrid:20260319T130000
DTSTAMP:20260421T125821
CREATED:20260203T115539Z
LAST-MODIFIED:20260203T115539Z
UID:8228-1773912600-1773925200@villadeguadarrama.com
SUMMARY:VISITA A LA CASA DE LA CULTURA. CHAMALEON THEATRE EDUCACIÓN INFANTIL+1º Y 2º DE EDUCACIÓN PRIMARIA
DESCRIPTION:
URL:https://villadeguadarrama.com/event/visita-a-la-casa-de-la-cultura-chamaleon-theatre-educacion-infantil1o-y-2o-de-educacion-primaria/
END:VEVENT
BEGIN:VEVENT
DTSTART;TZID=Europe/Madrid:20260320T093000
DTEND;TZID=Europe/Madrid:20260320T130000
DTSTAMP:20260421T125821
CREATED:20260203T115632Z
LAST-MODIFIED:20260203T115632Z
UID:8230-1773999000-1774011600@villadeguadarrama.com
SUMMARY:VISITA A LA CASA DE LA CULTURA. CHAMALEON THEATRE 3º-6º EDUCACIÓN PRIMARIA
DESCRIPTION:
URL:https://villadeguadarrama.com/event/visita-a-la-casa-de-la-cultura-chamaleon-theatre-3o-6o-educacion-primaria/
END:VEVENT
BEGIN:VEVENT
DTSTART;TZID=Europe/Madrid:20260326T090000
DTEND;TZID=Europe/Madrid:20260326T140000
DTSTAMP:20260421T125821
CREATED:20260203T115905Z
LAST-MODIFIED:20260203T115905Z
UID:8236-1774515600-1774533600@villadeguadarrama.com
SUMMARY:VISITA AL CENTRO DEL TÍTERE (ALCORCÓN) INFANTIL 4 AÑOS
DESCRIPTION:
URL:https://villadeguadarrama.com/event/visita-al-centro-del-titere-alcorcon-infantil-4-anos/
END:VEVENT
END:VCALENDAR